BEGIN:VCALENDAR
VERSION:2.0
PRODID:-//eventon.com NONSGML v1.0//EN
CALSCALE:GREGORIAN
METHOD:PUBLISH
BEGIN:VEVENT
UID:69e8d12f4def9
DTSTAMP:20260422T134623Z
DTSTART:20260605T143000Z
DTEND:20260606T045900Z
LOCATION:Alliance Abilene 6657 US Hwy 80 West.
SUMMARY:Abilene Fabulous 14 - 14th Anniversary Sale
DESCRIPTION:Celebrate 14 years of success at Alliance Auto Auction Abileneâ
 €™s Fabulous 14 Anniversary Sale on Friday\,  June 5! The action kicks off 
 at 9:30 AM with a massive 500-unit run featuring inventory from top sellers
  like Jim Bass and Express\,  plus a special spotlight run from Abilene Use
 d Car Sales.[..]\nhttps://www.allianceautoauction.com/events/abilene-fabulo
 us-14-14th-anniversary-sale/
URL:https://www.allianceautoauction.com/events/abilene-fabulous-14-14th-anniversary-sale/
END:VEVENT
END:VCALENDAR